BEGIN:VCALENDAR
VERSION:2.0
PRODID:-//The Sustainable Procurement Pledge - ECPv6.15.20//NONSGML v1.0//EN
CALSCALE:GREGORIAN
METHOD:PUBLISH
X-ORIGINAL-URL:https://www.spp.earth
X-WR-CALDESC:Events for The Sustainable Procurement Pledge
REFRESH-INTERVAL;VALUE=DURATION:PT1H
X-Robots-Tag:noindex
X-PUBLISHED-TTL:PT1H
BEGIN:VTIMEZONE
TZID:Europe/Berlin
BEGIN:DAYLIGHT
TZOFFSETFROM:+0100
TZOFFSETTO:+0200
TZNAME:CEST
DTSTART:20250330T010000
END:DAYLIGHT
BEGIN:STANDARD
TZOFFSETFROM:+0200
TZOFFSETTO:+0100
TZNAME:CET
DTSTART:20251026T010000
END:STANDARD
BEGIN:DAYLIGHT
TZOFFSETFROM:+0100
TZOFFSETTO:+0200
TZNAME:CEST
DTSTART:20260329T010000
END:DAYLIGHT
BEGIN:STANDARD
TZOFFSETFROM:+0200
TZOFFSETTO:+0100
TZNAME:CET
DTSTART:20261025T010000
END:STANDARD
BEGIN:DAYLIGHT
TZOFFSETFROM:+0100
TZOFFSETTO:+0200
TZNAME:CEST
DTSTART:20270328T010000
END:DAYLIGHT
BEGIN:STANDARD
TZOFFSETFROM:+0200
TZOFFSETTO:+0100
TZNAME:CET
DTSTART:20271031T010000
END:STANDARD
END:VTIMEZONE
BEGIN:VEVENT
DTSTART;TZID=Europe/Berlin:20260424T083000
DTEND;TZID=Europe/Berlin:20260424T113000
DTSTAMP:20260423T104553
CREATED:20260413T135721Z
LAST-MODIFIED:20260413T135721Z
UID:10000146-1777019400-1777030200@www.spp.earth
SUMMARY:SPP Denmark | In-person Event: Building Effective Supplier Engagement for Sustainable Procurement
DESCRIPTION: +++ Register here (it’s free): REGISTRATION LINK +++ \n\n\nJoin this in-person event organised by the SPP Denmark Chapter for practical insights on designing and scaling supplier engagement that drives real Scope 3 impact at Novonesis and STARK Group and for exchnaging and networking with procurement peers. \n\n\n\n\nSupplier engagement is becoming one of the most powerful levers in driving Scope 3 reductions – but how do you actually design\, launch\, and scale efforts that truly make an impact? \nNovonesis and STARK Group share their approaches and walk us through the objectives\, design choices\, challenges\, and concrete outcomes from their supplier engagement efforts. We’ll explore what works\, what doesn’t\, and what procurement teams should focus on next. \n\nFor more information on the agenda and the venue\, please follow the registration link above. \n\n\n*** \n\nJoin the SPP Community for all events\, tools and Ambassador bonuses: sustainableprocurementpledge/register/\nJoin the discussions via our SPP Denmark LinkedIn Group: https://www.linkedin.com/groups/ \nAs with all SPP events and platforms\, we ask attendees for active\, respectful participation and to refrain from sales pitches and solicitation. We kindly ask you to read and adhere to the SPP Netiquette (www.spp.earth)
URL:https://www.spp.earth/event/spp-denmark-in-person-event-building-effective-supplier-engagement-for-sustainable-procurement/
CATEGORIES:Denmark
ATTACH;FMTTYPE=image/png:https://www.spp.earth/wp-content/uploads/2026/04/Screenshot-2026-04-13-154727.png
END:VEVENT
END:VCALENDAR